BEGIN:VCALENDAR
VERSION:2.0
PRODID:-//Hearsafe Technologies - ECPv6.15.20//NONSGML v1.0//EN
CALSCALE:GREGORIAN
METHOD:PUBLISH
X-WR-CALNAME:Hearsafe Technologies
X-ORIGINAL-URL:https://www.hearsafe.de
X-WR-CALDESC:Veranstaltungen für Hearsafe Technologies
REFRESH-INTERVAL;VALUE=DURATION:PT1H
X-Robots-Tag:noindex
X-PUBLISHED-TTL:PT1H
BEGIN:VTIMEZONE
TZID:Europe/Berlin
BEGIN:DAYLIGHT
TZOFFSETFROM:+0100
TZOFFSETTO:+0200
TZNAME:CEST
DTSTART:20200329T010000
END:DAYLIGHT
BEGIN:STANDARD
TZOFFSETFROM:+0200
TZOFFSETTO:+0100
TZNAME:CET
DTSTART:20201025T010000
END:STANDARD
BEGIN:DAYLIGHT
TZOFFSETFROM:+0100
TZOFFSETTO:+0200
TZNAME:CEST
DTSTART:20210328T010000
END:DAYLIGHT
BEGIN:STANDARD
TZOFFSETFROM:+0200
TZOFFSETTO:+0100
TZNAME:CET
DTSTART:20211031T010000
END:STANDARD
BEGIN:DAYLIGHT
TZOFFSETFROM:+0100
TZOFFSETTO:+0200
TZNAME:CEST
DTSTART:20220327T010000
END:DAYLIGHT
BEGIN:STANDARD
TZOFFSETFROM:+0200
TZOFFSETTO:+0100
TZNAME:CET
DTSTART:20221030T010000
END:STANDARD
END:VTIMEZONE
BEGIN:VEVENT
DTSTART;VALUE=DATE:20211006
DTEND;VALUE=DATE:20211007
DTSTAMP:20260426T014800
CREATED:20211004T074508Z
LAST-MODIFIED:20211004T074508Z
UID:4815-1633478400-1633564799@www.hearsafe.de
SUMMARY:On Tour: Berlin
DESCRIPTION:
URL:https://www.hearsafe.de/veranstaltungskalender/on-tour-berlin-15/
END:VEVENT
BEGIN:VEVENT
DTSTART;VALUE=DATE:20211007
DTEND;VALUE=DATE:20211008
DTSTAMP:20260426T014800
CREATED:20211004T074618Z
LAST-MODIFIED:20211004T074618Z
UID:4818-1633564800-1633651199@www.hearsafe.de
SUMMARY:On Tour: Dresden (Orchester)
DESCRIPTION:
URL:https://www.hearsafe.de/veranstaltungskalender/on-tour-dresden-orchester/
END:VEVENT
BEGIN:VEVENT
DTSTART;VALUE=DATE:20211008
DTEND;VALUE=DATE:20211009
DTSTAMP:20260426T014800
CREATED:20211004T074648Z
LAST-MODIFIED:20211004T074648Z
UID:4820-1633651200-1633737599@www.hearsafe.de
SUMMARY:On Tour: Dresden / Frankfurt (Orchester)
DESCRIPTION:
URL:https://www.hearsafe.de/veranstaltungskalender/on-tour-dresden-frankfurt-orchester/
END:VEVENT
BEGIN:VEVENT
DTSTART;VALUE=DATE:20211014
DTEND;VALUE=DATE:20211015
DTSTAMP:20260426T014800
CREATED:20211004T074812Z
LAST-MODIFIED:20211004T074812Z
UID:4824-1634169600-1634255999@www.hearsafe.de
SUMMARY:On Tour: Bern
DESCRIPTION:
URL:https://www.hearsafe.de/veranstaltungskalender/on-tour-bern-2/
END:VEVENT
BEGIN:VEVENT
DTSTART;VALUE=DATE:20211019
DTEND;VALUE=DATE:20211021
DTSTAMP:20260426T014800
CREATED:20211005T071623Z
LAST-MODIFIED:20211005T071623Z
UID:4826-1634601600-1634774399@www.hearsafe.de
SUMMARY:IBIT Fachtagung Veranstaltungssicherheit\, Berlin
DESCRIPTION:
URL:https://www.hearsafe.de/veranstaltungskalender/ibit-fachtagung-veranstaltungssicherheit-berlin/
END:VEVENT
END:VCALENDAR