BEGIN:VCALENDAR
VERSION:2.0
PRODID:-//Hearsafe Technologies - ECPv6.15.20//NONSGML v1.0//EN
CALSCALE:GREGORIAN
METHOD:PUBLISH
X-WR-CALNAME:Hearsafe Technologies
X-ORIGINAL-URL:https://www.hearsafe.de
X-WR-CALDESC:Veranstaltungen für Hearsafe Technologies
REFRESH-INTERVAL;VALUE=DURATION:PT1H
X-Robots-Tag:noindex
X-PUBLISHED-TTL:PT1H
BEGIN:VTIMEZONE
TZID:Europe/Berlin
BEGIN:DAYLIGHT
TZOFFSETFROM:+0100
TZOFFSETTO:+0200
TZNAME:CEST
DTSTART:20210328T010000
END:DAYLIGHT
BEGIN:STANDARD
TZOFFSETFROM:+0200
TZOFFSETTO:+0100
TZNAME:CET
DTSTART:20211031T010000
END:STANDARD
BEGIN:DAYLIGHT
TZOFFSETFROM:+0100
TZOFFSETTO:+0200
TZNAME:CEST
DTSTART:20220327T010000
END:DAYLIGHT
BEGIN:STANDARD
TZOFFSETFROM:+0200
TZOFFSETTO:+0100
TZNAME:CET
DTSTART:20221030T010000
END:STANDARD
BEGIN:DAYLIGHT
TZOFFSETFROM:+0100
TZOFFSETTO:+0200
TZNAME:CEST
DTSTART:20230326T010000
END:DAYLIGHT
BEGIN:STANDARD
TZOFFSETFROM:+0200
TZOFFSETTO:+0100
TZNAME:CET
DTSTART:20231029T010000
END:STANDARD
END:VTIMEZONE
BEGIN:VEVENT
DTSTART;VALUE=DATE:20220303
DTEND;VALUE=DATE:20220304
DTSTAMP:20260425T174440
CREATED:20220202T162000Z
LAST-MODIFIED:20220202T162000Z
UID:4914-1646265600-1646351999@www.hearsafe.de
SUMMARY:On Tour: Stuttgart
DESCRIPTION:
URL:https://www.hearsafe.de/veranstaltungskalender/on-tour-stuttgart-5/
END:VEVENT
BEGIN:VEVENT
DTSTART;VALUE=DATE:20220312
DTEND;VALUE=DATE:20220313
DTSTAMP:20260425T174440
CREATED:20220211T081214Z
LAST-MODIFIED:20220211T081214Z
UID:4923-1647043200-1647129599@www.hearsafe.de
SUMMARY:2. Samstag im Monat – von 11-14 Uhr geöffnet!
DESCRIPTION:
URL:https://www.hearsafe.de/veranstaltungskalender/2-samstag-im-monat-von-11-14-uhr-geoeffnet/
END:VEVENT
BEGIN:VEVENT
DTSTART;VALUE=DATE:20220326
DTEND;VALUE=DATE:20220327
DTSTAMP:20260425T174440
CREATED:20220211T081240Z
LAST-MODIFIED:20220211T081240Z
UID:4925-1648252800-1648339199@www.hearsafe.de
SUMMARY:4. Samstag im Monat – von 11-14 Uhr geöffnet!
DESCRIPTION:
URL:https://www.hearsafe.de/veranstaltungskalender/4-samstag-im-monat-von-11-14-uhr-geoeffnet/
END:VEVENT
END:VCALENDAR