BEGIN:VCALENDAR
VERSION:2.0
PRODID:-//Hearsafe Technologies - ECPv6.15.20//NONSGML v1.0//EN
CALSCALE:GREGORIAN
METHOD:PUBLISH
X-WR-CALNAME:Hearsafe Technologies
X-ORIGINAL-URL:https://www.hearsafe.de
X-WR-CALDESC:Veranstaltungen für Hearsafe Technologies
REFRESH-INTERVAL;VALUE=DURATION:PT1H
X-Robots-Tag:noindex
X-PUBLISHED-TTL:PT1H
BEGIN:VTIMEZONE
TZID:Europe/Berlin
BEGIN:DAYLIGHT
TZOFFSETFROM:+0100
TZOFFSETTO:+0200
TZNAME:CEST
DTSTART:20210328T010000
END:DAYLIGHT
BEGIN:STANDARD
TZOFFSETFROM:+0200
TZOFFSETTO:+0100
TZNAME:CET
DTSTART:20211031T010000
END:STANDARD
BEGIN:DAYLIGHT
TZOFFSETFROM:+0100
TZOFFSETTO:+0200
TZNAME:CEST
DTSTART:20220327T010000
END:DAYLIGHT
BEGIN:STANDARD
TZOFFSETFROM:+0200
TZOFFSETTO:+0100
TZNAME:CET
DTSTART:20221030T010000
END:STANDARD
BEGIN:DAYLIGHT
TZOFFSETFROM:+0100
TZOFFSETTO:+0200
TZNAME:CEST
DTSTART:20230326T010000
END:DAYLIGHT
BEGIN:STANDARD
TZOFFSETFROM:+0200
TZOFFSETTO:+0100
TZNAME:CET
DTSTART:20231029T010000
END:STANDARD
END:VTIMEZONE
BEGIN:VEVENT
DTSTART;VALUE=DATE:20220429
DTEND;VALUE=DATE:20220502
DTSTAMP:20260425T141950
CREATED:20220202T162107Z
LAST-MODIFIED:20220202T162107Z
UID:4916-1651190400-1651449599@www.hearsafe.de
SUMMARY:Musikmesse Frankfurt
DESCRIPTION:
URL:https://www.hearsafe.de/veranstaltungskalender/musikmesse-frankfurt/
END:VEVENT
BEGIN:VEVENT
DTSTART;VALUE=DATE:20220430
DTEND;VALUE=DATE:20220502
DTSTAMP:20260425T141950
CREATED:20220202T162139Z
LAST-MODIFIED:20220202T162139Z
UID:4918-1651276800-1651449599@www.hearsafe.de
SUMMARY:Musikmesse Plaza Frankfurt
DESCRIPTION:
URL:https://www.hearsafe.de/veranstaltungskalender/musikmesse-plaza-frankfurt/
END:VEVENT
BEGIN:VEVENT
DTSTART;VALUE=DATE:20220501
DTEND;VALUE=DATE:20220503
DTSTAMP:20260425T141950
CREATED:20220106T132605Z
LAST-MODIFIED:20220106T132605Z
UID:4888-1651363200-1651535999@www.hearsafe.de
SUMMARY:Deutscher Orchestertag Berlin
DESCRIPTION:
URL:https://www.hearsafe.de/veranstaltungskalender/deutscher-orchestertag-berlin/
END:VEVENT
BEGIN:VEVENT
DTSTART;VALUE=DATE:20220527
DTEND;VALUE=DATE:20220529
DTSTAMP:20260425T141950
CREATED:20220530T072518Z
LAST-MODIFIED:20220530T072526Z
UID:5015-1653609600-1653782399@www.hearsafe.de
SUMMARY:Klavierbauertagung\, Bayreuth
DESCRIPTION:
URL:https://www.hearsafe.de/veranstaltungskalender/5-klavierbauertagung-bayreuth/
END:VEVENT
BEGIN:VEVENT
DTSTART;VALUE=DATE:20220530
DTEND;VALUE=DATE:20220531
DTSTAMP:20260425T141950
CREATED:20220530T072549Z
LAST-MODIFIED:20220530T072549Z
UID:5018-1653868800-1653955199@www.hearsafe.de
SUMMARY:On Tour: Würzburg
DESCRIPTION:
URL:https://www.hearsafe.de/veranstaltungskalender/on-tour-wuerzburg-2/
END:VEVENT
BEGIN:VEVENT
DTSTART;VALUE=DATE:20220531
DTEND;VALUE=DATE:20220601
DTSTAMP:20260425T141950
CREATED:20220530T072639Z
LAST-MODIFIED:20220530T072639Z
UID:5020-1653955200-1654041599@www.hearsafe.de
SUMMARY:On Tour: Frankfurt a. M.
DESCRIPTION:
URL:https://www.hearsafe.de/veranstaltungskalender/on-tour-frankfurt-a-m-2/
END:VEVENT
END:VCALENDAR